Workbook

Sheet Baggrundsdata
A1: Epidemiology | B1: Epidemiology, Environment and Biostatistics
A2: Environment | B2: Epidemiology, Environment and Biostatistics
A3: Biostatistics | B3: Epidemiology, Environment and Biostatistics
A4: Health Promotion and Interventions | B4: Applied Public Health
A5: Health Economics, Policy and Planning | B5: Applied Public Health
A6: Health Organisation | B6: Applied Public Health
A7: Nursing and Health Care | B7: Clinical Public Health
A8: General Practice | B8: Clinical Public Health
A9: Exercise Biology | B9: Sport Science
A10: Sport and Body Culture | B10: Sport Science
A11: Educational Development, Didactics and Practical Skills | B11: Sport Science
A12: Videnskabsteori | B12: Sport Science
... A16: På sektionsniveau | B16: Alle sektioner

Sheet Grunddata
A1: Tidspunkt for eksport: 11-06-2026 08:32, Rapportsprog: da, Link til filtrering: https://kursuskatalog-admin.au.dk/da?year=2026&department=18. Der kan ikke garanteres for korrektheden af EKA koder.
A2: Kursuskatalog id | B2: STADS UVA kode | C2: STADS EKA kode | D2: Langt navn | E2: ECTS | F2: ECTS tekst | G2: Institut | H2: Institut email | I2: Primær uddannelse | J2: Fakultet | K2: Niveau | L2: Undervisningsformer | M2: Periode | N2: År | O2: Sæson | P2: Kvalifikationsbeskrivelse | Q2: Kursustype | R2: Undervisningssprog | S2: Tags | T2: Kursusansvarlig | U2: Kursusansvarlig AuID | V2: Kursusansvarlig Email | W2: Pensum | X2: Indhold | Y2: Underviser | Z2: Semesterplacering | AA2: Litteratur | AB2: Deltagerbegrænsning | AC2: Faglige forudsætninger | AD2: Kommentar til undervisningsform | AE2: Timer - Uge - Periode | AF2: Sted | AG2: Sted tekst | AH2: Øvrige oplysninger | AI2: Studienævn | AJ2: Relaterede uddannelser | AK2: EksOpl:Antal valgmuligheder | AL2: EksOpl: Eksamensnavn | AM2: EksOpl: Bemærkninger | AN2: EksOpl: Forudsætninger | AO2: EksOpl: Censurform | AP2: EksOpl: Bedømmelse | AQ2: EksOpl: Antal Prøvelementer | AR2: EksOplPe: Kaldenavn | AS2: EksOplPe: Prøveform | AT2: EksOplPe: Forberedelsestid | AU2: EksOplPe: Eksamenstid | AV2: EksOplPe: Hjælpemidler | AW2: Emnekrav | AX2: Link
A3: 143231 | B3: 341262U001 | C3: 341202E040 | D3: Abduktive tekstanalyser | E3: 10 | F3: 10 ECTS | G3: Institut for Folkesundhed | H3: Health.studadm@au.dk | I3: Kandidatuddannelsen i folkesundhedsvidenskab | J3: Health | K3: Kandidat | L3: Forelæsning, Holdundervisning, Praktisk, Vejledning | M3: Efterårssemester | N3: 2026 | O3: Efterår | P3: Abduktive tilgange bruges stadig oftere i sundhedsvidenskabelig kvalitativ forskning, især i komplekse praksisfelter som klinisk beslutningstagning, patientforløb, tværfagligt samarbejde og hverdagsliv med sygdom. Deres styrke ligger i, at de hverken er strikt deduktive (teoridrevne) eller induktive (datadrevne), men bevæger sig mellem teori og empiri i en kreativ, systematisk og refleksiv proces. Formålet med abduktive analyser er at opdage det uventede og udvikle den bedst mulige forklaring ved at lade data og teori udfordre og berige hinanden gensidigt. 1. Identificere grundbegreber knyttet til abduktive analyser i sundhedsfaglig forskning. 2. Beskrive centrale elementer i abduktion, herunder teoretisk følsomhed, iterative analyser og håndtering af overraskende fund. 3. Forbinde abduktive analyseprincipper til konkrete metodiske valg og begrunde deres relevans i sundhedsfaglig forskning. 4. Vurdere kvalitet og transparens i abduktive analyser ud fra etablerede videnskabsteoretiske kriterier. 5. Anvende abduktion til at generere innovative, teoretisk informerede tolkninger af komplekse sundhedsfænomener, også i nye eller uforudsete kontekster. 6. Reflektere kritisk og kreativt over egen analytisk praksis og formulere fagligt begrundede anbefalinger til forskning eller sundhedspraksis. | Q3: Tomplads, Ordinær, Udveksling | R3: Dansk | T3: Niels Buus | U3: 222385 | V3: niels.buus@ph.au.dk | W3: Kursets grundbog er: Timmermans, S., &amp; Tavory, I. (2022). Data analysis in qualitative research. Theorizing with abductive analysis. University of Chicago Press. | X3: Dette kursus introducerer studerende til abduktiv analyse med udgangspunkt i Timmermans og Tavorys forståelse af abduktion som en systematisk og kreativ metode til teoridrevet kvalitativ forskning. Kurset tager afsæt i en central pointe hos Timmermans & Tavory: at abduktion ikke blot er en metode, men ”en analytisk holdning”, hvor forskeren aktivt søger overraskelser, mønsterbrud og analytiske spændinger i data for at udvikle nye, plausible forklaringer. Kurset gennemgår abduktionens teoretiske fundament, herunder dens rødder i pragmatismen og Peirces oprindelige formulering. Herefter fokuseres der på Timmermans & Tavorys tre nøgleelementer: 1. Systematisk teoretisk triangulering, hvor forskeren arbejder bevidst med flere teorier samtidig for at øge sin teoretiske sensitivitet; 2. Analytiske abduktive loops, hvor forskeren pendulerer mellem empiri og teori for gradvist at forme forklaringer; og 3. Brug af anomalier, hvor det uventede i data ses som produktiv drivkraft for analytisk indsigt. Der arbejdes med, hvordan abduktion kan styrke forståelsen af praksisnære udfordringer, og hvordan metoden kan skabe forklaringer, der både er teoretisk velbegrundede og praktisk meningsfulde. Gennem kursusforløbet vil de studerende arbejde med egne data for praktisk at erfare effekten af skift mellem teoretiske perspektiver og forskellige tilgange til tekstanalyse. | AA3: Kursets grundbog er: Timmermans, S., & Tavory, I. (2022). Data analysis in qualitative research. Theorizing with abductive analysis. University of Chicago Press | AB3: 24 | AD3: Kurset har ikke fokus på datagenerering, men de studerende vil som optakt til kurset udføre et længere kvalitativt interview med en pensionist om vedkommendes oplevelse af sundhed baseret på en interviewguide udleveret af kursuslederen. Dette interview vil være udgangspunkt for praktiske øvelser i abduktive analyser (de vil pendulere mellem flere forskellige teoretiske perspektiver og forskellige kvalitative analyseformer mens de forfølger både mønstre og overraskelser). | AE3: Der vil være 12 ugers undervisning med fire undervisertilrettelagte timer per uge samt 12 timer til den afsluttende prøve. Halvdelen af disse timer vil være forelæsning og den anden halvdel holdundervisning, gruppearbejde og den fortløbende udarbejdelse af opgaven. Der vil være forberedelser og tid til udfærdigelse af prøve svarende til ca. 90 timer. | AF3: Aarhus | AI3: Studienævnet for Folkesundhedsvidenskab | AJ3: Den sundhedsfaglige kandidatuddannelse, Kandidatuddannelsen i sygepleje, Kandidatuddannelsen i optometri og synsvidenskab, Kandidatuddannelsen i idrætsvidenskab | AK3: 1 | AL3: Undervisningsdeltagelse | AM3: Kurset afsluttes med en individuel skriftlig opgave (omkring, men ikke over 20.000 anslag), der sammenfatter og præsenterer en større abduktiv analyse udført gennem hele semesteret. Det skal være fokus på både analytisk proces og analysens fund. Opgaven præsenteres ved en 10 minutters mundtlig fremlæggelse ved kursets afslutning. Det er ikke muligt at aflevere i grupper. Opgave og fremlæggelse vurderes samlet som bestået eller ikke bestået.Reeksamen: Består den studerende ikke eksamen, skal den studerende bestå kurset ved en fri hjemmeopgave og en mundtlig eksamen.Individuel fri hjemmeopgave hvor de studerende udarbejder en ny analyse baseret på samme datasæt som fra ordinær.Opgaven er samme omfang som ordinær.Mundtlig eksamen:Varighed: 20 minutter inkl. 10 min præsentation af opgaven og efterfølgende spørgsmål. | AO3: ingen censur | AP3: bestået/ikke bestået | AQ3: 1 | AR3: Undervisningsdeltagelse | AS3: Undervisningsdeltagelse | AV3: Alle | AX3: https://kursuskatalog-admin.au.dk/da/course/143231/
A4: 140938 | B4: 342192U007 | C4: 342192E004 | D4: Aktuelle tendenser i sygepleje | E4: 10 | F4: 10 ECTS | G4: Institut for Folkesundhed | H4: Health.studadm@au.dk | I4: Kandidatuddannelsen i sygepleje | J4: Health | K4: Kandidat | L4: Holdundervisning | M4: Efterårssemester | N4: 2026 | O4: Efterår | P4: Formål Kurset er et refleksions- og diskussionsfag, som skal give studerende indsigt i udvalgte aktuelle tendenser i sygepleje og sætte dem i stand til kritisk at analysere og diskutere disse tendensers konsekvenser for pleje og behandling af patienter og borgere. Læringsmål De studerende skal kunne: Demonstrere forståelse for aktuelle tendenser i sygeplejen og forholde sig kritisk analyserende til udvalgte aktuelle tendenserIdentificere, afgrænse og begrunde relevante sygeplejefaglige problemstillinger relateret til kursets emneområde på baggrund af en struktureret, systematisk og reflekteret informationssøgning med vægt på en argumentation for hvorledes udvalgte tendenser kommer til udtryk i det aktuelle sundhedsvæsenIdentificere, beskrive og begrunde en relevant metode til at undersøge en selvvalgt problemstillingUndersøge problemstillingen gennem analyse og diskussion af et velbegrundet valg af materiale/kilderBedømme undersøgelsens resultater og metode i en diskussion med inddragelse af relevante kilder og perspektivere undersøgelsens resultat med fokus på dens implikationer for patienter og/eller sygepleje.Strukturere redegørelsen for undersøgelsen på en systematisk og velargumenteret måde. | Q4: Tomplads, Ordinær | T4: Pia Dreyer | U4: 168389 | V4: dreyer@ph.au.dk | X4: Der gives en generel indføring i udvalgte aktuelle tendenser i sygepleje. Emnerne udgøres af nogle nedslagspunkter, der har forskellige abstraktionsniveauer. Under kurset arbejdes løbende med en obligatorisk øvelse i form af et debatindlæg (læserbrev, kommentar el. kronik) til et selvvalgt dansk medie, som ved kursets afslutning i princippet skal kunne publiceres. | AF4: Aarhus | AI4: Studienævnet for Sundhedsvidenskab | AK4: 1 | AL4: Fri hjemmeopgave | AM4: IndstillingsbetingelseFor at blive indstillet til eksamen skal de studerende have godkendt en skriveøvelse i form af en kronik/kommentar/læserbrev VejledningVejledning i grupper (seminarform): 1 gang á 135 minutterVejledning individuelt: 1 gang á 45 minutter. OmfangDen studerende udarbejder en individuel fri skriftligt hjemmeopgave på maksimalt 36.000 anslag (tegn inkl. mellemrum) svarende til 15 normalsider Der skal udarbejdes et kort dansk resume på maksimum ½ side svarende til 1.200 anslag Prøveform ved reeksamenPrøveformen ved 2. og 3. prøveforsøg svarer til kurstes ordinære prøveform | AN4: IndstillingsbetingelseFor at blive indstillet til eksamen skal de studerende have godkendt en skriveøvelse i form af en kronik/kommentar/læserbrev | AO4: ekstern censur | AP4: 7-trinsskala | AQ4: 1 | AR4: Fri hjemmeopgave | AS4: Hjemmeopgave (Assign) | AV4: Alle | AX4: https://kursuskatalog-admin.au.dk/da/course/140938/
A5: 140948 | B5: 341202U005 | C5: 341152E056 | D5: Almen sygdomslære | E5: 5 | F5: 5 ECTS | G5: Institut for Folkesundhed | H5: Health.studadm@au.dk | I5: Den sundhedsfaglige kandidatuddannelse | J5: Health | K5: Kandidat | L5: Forelæsning, Holdundervisning | M5: Efterårssemester | N5: 2026 | O5: Efterår | P5: Formål Formålet med kurset er at give de studerende et grundlæggende kendskab til de hyppigste og væsentligste sygdomme i den danske befolkning, således at de studerende opnår videregående kompetencer til at anvende og kritisk vurdere teorier og metoder i forhold til sundhedsvidenskabelige problemstillinger. Læringsmål: Ved afslutning af kurset skal den studerende kunne: Redegøre for og kritisk diskutere udvalgte teorier og/eller metoder anvendt inden for sundhedsvidenskabelige forskningAnvende disse teorier og/eller metoder til at belyse problemstillinger og/eller empirisk materialeVurdere disse teoriers og/eller metoders anvendelighed (forudsætninger, begrænsninger og styrker) i en sundhedsfaglig sammenhæng | Q5: Tomplads, Ordinær | T5: Iben Bach Damgaard | U5: 217847 | V5: iben.b.damgaard@clin.au.dk | X5: Der lægges i undervisningen vægt på at forklare sygdommes årsager og udvikling. Der vil være fokus på de hyppigste og væsentligste sygdomme i den vestlige befolkning. Undervisningen vil komme omkring: Patogenese og ætiologiSymptomer og fundDiagnostik, behandling, forebyggelse og byrde for patient og samfund.Forekomst, følgesygdomme og prognose.Udvalgte patofysiologiske tilstandes samspil med konkurrerende sygdomme.Medicinsk terminologi relateret til sygdomslæreUdvalgte teorier om sygdomslære og disses styrker/svaghederKommunikation til sundhedspersonale og sundhedsvidenskabelige forskere Fagets målgruppe er primært studerende fra kandidatuddannelsen i optometri og synsvidenskab. Faget er desuden relevant for øvrige studerende der skal samarbejde med sundhedspersonale. | Y5: Stine Elkjær Nielsen, stine.elkjaer.nielsen@auh.rm.dk | AA5: Sygdomslære for ikke-klinikere. Else Marie Bladbjerg & Jens Brings Jacobsen (Red.). Bog, hæftet. Sprog: Dansk. ISBN: 9788762818644 | AB5: 25 | AC5: Fagets målgruppe er primært studerende fra kandidatuddannelsen i optometri og synsvidenskab. Faget er desuden relevant for øvrige studerende der skal samarbejde med sundhedspersonale. | AE5: 8 undervisningsgange á 4 lektioner | AF5: Aarhus | AI5: Studienævnet for Sundhedsvidenskab | AJ5: Kandidatuddannelsen i sygepleje, Kandidatuddannelsen i optometri og synsvidenskab | AK5: 1 | AL5: Undervisningsdeltagelse | AM5: Valgfaget bestås ved følgende obligatoriske øvelse: De studerende vil blive inddelt i grupper á 4-5 personer og vil få udleveret en problemstilling, som de skal forberede et oplæg omkring. Problemstillingen tager udgangspunkt i et af undervisningsemnerne og udleveres en uge før fremlæggelsen. Alle i gruppen skal præsentere. ReeksamenBestår den studerende ikke kurset ved aktiv undervisningsdeltagelse, skal den studerende bestå kurset ved en bunden hjemmeopgave + en mundtlig eksamen Individuel, bunden hjemmeopgave: Omfang: 16.800 anslag (tegn inkl. mellemrum) svarende til 7 normalsiderVarighed: 3 dageMundtlig eksamen:Varighed: 30 min. inkl. votering | AO5: ingen censur | AP5: bestået/ikke bestået | AQ5: 1 | AR5: Undervisningsdeltagelse | AS5: Undervisningsdeltagelse | AX5: https://kursuskatalog-admin.au.dk/da/course/140948/
A6: 140949 | B6: 345231U001 | C6: 345201E028 | D6: Analyser og formidling af kontroversielle emner i sport | E6: 10 | F6: 10 ECTS | G6: Institut for Folkesundhed | H6: Health.studadm@au.dk | I6: Bacheloruddannelsen i idrætsvidenskab | J6: Health | K6: Bachelor | L6: Holdundervisning | M6: Efterårssemester | N6: 2026 | O6: Efterår | P6: Formål Formålet med kurset er at styrke de studerendes forudsætninger for at analysere humanvidenskabelig idrætsforskning inden for de angivne emner i indholdsbeskrivelsen. På kurset opøver de studerende deres evne til at vurdere idrætsvidenskabelige tekster af forskellig type inden for området med henblik på at skærpe egne skriftlige analyse- og formidlingskompetencer. De studerende vil blive præsenteret for forskellige teoretiske og metodiske tilgange inden for humanvidenskabelig idrætsforskning. Læringsmål Ved bedømmelse af den studerendes præstation lægges vægt på, i hvor høj grad den studerende kan: Redegøre for styrker og svagheder i idrætsfaglige tekster inden for det humanvidenskabelige område af såvel metodologisk som formidlingsmæssig karakter.Identificere og beskrive brug af teori i idrætsfaglige tekster.Identificere underliggende videnskabsteoretiske, ideologiske og politiske positioner og eventuelle biases.Analysere, diskutere og kritisere fremstillings- og argumentationsformen i idrætsvidenskabelig litteratur.Foretage og formidle en analyse klart, konsistent og velargumenteret. | Q6: Ordinær, Udveksling | R6: Dansk | T6: Verner Møller | U6: 167504 | V6: vm@ph.au.dk | X6: Undervisningen har fokus på læsning af idrætsfaglige tekster inden for det humanvidenskabelige område af såvel empirisk som teoretisk karakter. I kurset vil problemstillinger, som rejses i det forelagte tekstmateriale, gøres til genstand for diskussion, men der vil i særlig grad være opmærksomhed på at belyse de greb og virkemidler som teksterne er tilvejebragt ved hjælp af. Dvs. deres komposition, greb, materialevalg, sprog og argumentationsformer. Kurset vil således i høj grad rette sig mod at give de studerende indblik i den videnskabelige produktion og ”formidlingsmaskinrum”. Undervisningsmaterialet vil variere og f.eks. omfatte tekster som tematiserer: Doping og snyd i sportGambling, matchfixing og sportsbettingTransatleters inklusion og eksklusionRacisme og homofobi i sportIdræt som socialpolitikIdræt og identitetsdannelse Undervisningen vil være diskussions- og problembaseret på hold og i grupper. I faget vil studerendes egne skriftlige produkter også gøres til genstand for kritik og analyse. | Y6: Verner Møller | AB6: 35 | AC6: Kurset tager udgangspunkt i men forudsætter ikke de studerendes kendskab til humanistisk samfundsvidenskabelige idrætsteori som introduceres på kurset Sport history and sport sociology, samt på deres viden opnået ved fagene Videnskabsteori og Idrætspolitik, sundhedsbegreber og samfund samt kurset Introduktion til kvalitative metoder. | AD6: Holdundervisning, gruppearbejde, skriftligt arbejde | AE6: 3-timers holdundervisning 1 gang per uge i 14 uger | AF6: Aarhus | AI6: Studienævnet for Idræt | AJ6: Kandidattilvalget i idrætsvidenskab, Bacheloruddannelsen i idrætsvidenskab | AK6: 1 | AL6: Bunden hjemmeopgave | AM6: Individuel bunden hjemmeopgave på maksimalt 15 normalsider. Den studerende får ved kursets afslutning udleveret 3 idrætsvidenskabelige tekster, hvoraf de vælger én som analyseres indholds- og formidlingsmæssigt. | AO6: ekstern censur | AP6: 7-trinsskala | AQ6: 1 | AR6: Bunden hjemmeopgave | AS6: Hjemmeopgave (Assign) | AU6: 4 uge(r) | AX6: https://kursuskatalog-admin.au.dk/da/course/140949/
A7: 140951 | B7: 345201U006 | C7: 345201E001 | D7: Anatomi og biomekanik | E7: 10 | F7: 10 ECTS | G7: Institut for Folkesundhed | H7: Health.studadm@au.dk | I7: Bacheloruddannelsen i idrætsvidenskab | J7: Health | K7: Bachelor | L7: Forelæsning, Holdundervisning | M7: Efterårssemester | N7: 2026 | O7: Efterår | P7: Formål Kurset indeholder emnerne Anatomi og Biomekanik. Anatomi er læren om kroppens opbygning. Anatomidelen i dette kursus omhandler bevægeapparatets funktionelle anatomi. Bevægeapparatet omfatter knoglerne, leddene og musklerne, og i udvidet forstand endvidere kredsløbet og nervesystemet. Det primære formål i denne del af kurset er, at de studerende får en viden om anatomi, der sætter dem i stand til at forstå, hvordan bevægeapparatet fungerer i forbindelse med bevægelse. Et sekundært formål er, at de studerende opnår et kendskab til anatomiens sprog (nomenklatur), der dels sætter dem i stand til at kunne kommunikere med andre faggrupper inden for natur- og sundhedsvidenskab, og dels at kunne læse faglitteraturen. Biomekanik er læren om biologiske systemers mekaniske funktion. Det primære formål i denne del af kurset er, at de studerende får en viden om mekanik, der sætter dem i stand til at analysere menneskets bevægelser, specielt i idrætsmæssig sammenhæng. Dvs. at de studerende skal kunne forstå og udføre simple kvantitative bevægelsesanalyser. For kurset gælder det, at læringen herfra kan bruges i en række af idrætsstudiets senere kurser, f.eks. Menneskets fysiologi, Svømning, Atletik og bevægelsesoptimering og Idrætsskader Læringsmål Ved bedømmelse af den studerendes præstation lægges vægt på, i hvor høj grad den studerende kan: Beskrive bevægeapparatets knogler, led og musklerRedegøre for sammenhænge mellem kraft og bevægelseAnalysere bevægelser kvalitativtAnvende anatomisk nomenklaturAnvende den klassiske mekanik på menneskets bevægelserAnalysere menneskets grundlæggende bevægelser kinematiskAnalysere menneskets grundlæggende bevægelser kinetiskAnalysere mere komplekse idrætsbevægelser kvantitativt ved brug af digitale teknologier | Q7: Ordinær, Udveksling | R7: Dansk | T7: Thomas Bull Andersen | U7: 132707 | V7: tbull@ph.au.dk | X7: Systematisk, detaljeret gennemgang af bevægeapparatets knogler, led og muskler, samt mindre detaljeret gennemgang af kredsløb og nervesystem Kvalitativ bevægelsesanalyse: ledbevægelser og musklers kontraktionsformer i forbindelse med naturlige bevægelser Anatomisk terminologi (nomenklatur) på dansk og latin Systematisk gennemgang af den klassiske mekanik og hvorledes den kan anvendes på menneskets bevægelser Kvantitative bevægelsesanalyser af idrætsbevægelser, herunder kinematiske og kinetiske analyser. | Y7: Thomas Bull Andersen tbull@ph.au.dk og Henrik Sørensen hs@ph.au.dk | AE7: 6 timer pr. uge i 14 uger | AF7: Aarhus | AI7: Studienævnet for Idræt | AJ7: Bachelortilvalget i idrætsvidenskab, Bacheloruddannelsen i idrætsvidenskab | AK7: 1 | AL7: Skriftlig tilsynseksamen m. PC | AM7: Eksamen er en individuel fem-timers skriftlig tilsynseksamen. Anviste hjælpemidler: Papir og pen. Lommeregner og PC med officepakken; kun til løsning af opgave. Derfor er internet, værktøjer baseret på Generativ Artificial Intelligence (GAI), andre funktioner, programmer eller noter på PC'en ikke tilladt. Prøveform ved reeksamen Prøveformen ved reeksamen svarer til kursets ordinære prøveform. | AO7: ekstern censur | AP7: 7-trinsskala | AQ7: 1 | AR7: Skriftlig tilsynseksamen m. PC | AS7: Skriftlig Tilsynsprøve(Assign) | AU7: 5 time(r) | AV7: Anviste | AX7: https://kursuskatalog-admin.au.dk/da/course/140951/
A8: 137613 | B8: 341221U001 | C8: 341181E019 | D8: Anvendelse af "The Demographic and Health Surveys Program (DHS)" | E8: 20 | F8: 20 ECTS | G8: Institut for Folkesundhed | H8: Health.studadm@au.dk | I8: Bacheloruddannelsen i folkesundhedsvidenskab | J8: Health | K8: Bachelor | L8: Forelæsning, Holdundervisning, Selvstudium, Vejledning | M8: Forårssemester | N8: 2026 | O8: Forår | P8: Indenfor kursets emnefelt: Anvendelse af ”The Demographic and Health Surveys Program (DHS)”, skal den studerende kunne: behandle en afgrænset og klar folkesundhedsvidenskabelig problemstillingdokumentere en struktureret og fokuseret litteratursøgning med fremdragelse af relevant litteraturargumentere for valg af metode i relation til den valgte problemstillingdiskutere relevant teori og viden om det valgte genstandsområdeanalysere og fortolke empirisk datamaterialekritisk diskutere teori og materialekonkludere og perspektivere- gennemføre en logisk sammenhængende og velunderbygget argumentation fra problemformulering over analyse til konklusiondokumentere evnen til skriftlig akademisk fremstillingAnvende peer-feedback i forbindelse med udarbejdelse af bachelor projekt. | Q8: Ordinær, Udveksling | R8: Dansk | T8: Ulrika Enemark | U8: 186743 | V8: ue@ph.au.dk | X8: Flere internationale standardiserede surveys indsamler regelmæssigt valide nationalt repræsentative survey data omhandlende befolkning og sundhed i nu flere end 90 lande, primært lav- og middelindkomstlande. Eksempler på dette er Demographic and Health Surveys Program (DHS), Multi-Indicator Cluster Surveys (MICS) og Malaria Indicator Surveys (MIS). Fælles for dem er, at der anvendes standardiserede og validerede metoder. DHS blev oprindeligt iværksat for tredive år siden med henblik på at give lav- og middelindkomst lande mulighed for at monitorere og evaluere befolkningsudvikling, sundhed og ernæring. Fokus er især på børn og reproduktiv sundhed, men der er gennem årene tilkommet en række andre data moduler. I øjeblikket indsamles data til at beregne omkring 30 af indikatorerne, som anvendes til at monitorere FNs bæredygtighedsmål (SDG -Sustainable Development Goals). Data indsamles cirka hvert femte år og omfatter som standard - udover baggrundsdata for husstand og enkeltpersoner, blandt andet information om børnedødelighed, ernæring, forekomst af sygdom og brug af sundhedsvæsenet, vaccinationer, brug af graviditetsundersøgelser og fødselshjælp, mødredødelighed, familieplanlægning, omskæring, vold i hjemmet, hygiejne og adgang til rent drikkevand. Desuden findes tillægsmoduler, som dækker en række andre områder. På dette seminar skal studerende vælge en folkesundhedsvidenskabelig problemstilling som kan belyses via kvantitative analyser med brug af data fra DHS eller et andet internationalet survey. Som eksempel på mulige emneområder kan nævnes: Brug af sundhedsydelser eller sundhedsvæsenErnæring blandt børnSvangre omsorgForekomst af sygdomGeografisk og/eller socioøkonomisk ulighed Eksempel på en problemstilling: Den 26. september er World Contraception Day som en påmindelse om at regeringer verden over bør gøre mere for at imødekomme befolkningens behov for moderne præventionsmidler. For at imødekomme SDG 3 Ensure healthy lives and promote well-being for all at all ages har FNs medlemslande blandt andet forpligtet sig til at sikre universel adgang til seksuel og reproduktiv sundhedsydelser. Men i lav- og middelindkomstlande er det op imod hver fjerde kvinde, som ikke får imødekommet deres behov for moderne prævention. Hvad kan der gøres i det enkelte land for at leve op til forpligtelsen? En forudsætning for at kunne svare på dette er at forstå, hvor stort problemet er, hvem der er påvirket og sammenhængen mellem adgang til og brug af prævention og andre faktorer. Analyse af DHS data kan bidrage til mere viden på dette område. Ved kursus start vil der være udvalgt et mindre antal lande som de studerende skal rekvirere DHS data fra. Seminaret vil tage udgangspunkt i nogle udvalgte emneområder, men det vil være muligt at vælge andre emneområder til BA-opgaven. De udvalgte emneområder for undervisningen kunne fx være Børn og reproduktiv sundhedHvem bruger sundhedsvæsenet til hvad ?Sundhedsadfærd (vedrører også brug af sundhedsvæsenet, nogle DHS inkluderer også tobaksforbrug, trafikulykker etc.) Bachelorseminaret vil indeholde følgende overordnede elementer: Eksempler på folkesundhedsvidenskabelige problemstillinger og metode til belysning med anvendelse af DHS dataProblemformulering og formulering af teori og hypoteserLitteratursøgningOm data: Hvordan er data indsamlet? Hvilke spørgsmål indgår i spørgeskemaet? Hvad indeholder datasættet? Hvordan er datasættet struktureret? Hvordan ansøges om data? | Y8: Ulrika Enemark og Derek Asuman | AD8: Undervisningen vil veksle mellem oplæg fra undervisere, workshops og små oplæg fra studerende og peer-feedback de studerende imellem. De studerende vil tidligt i forløbet, skulle arbejde målrettet med valg af problemformulering som kan belyses med kvantitativ tilgang. Deltagerne forventes at udarbejde en kort individuel projektbeskrivelse og bacheloropgave. Forløbet omfatter både gruppebaseret og individuel vejledning. | AF8: Aarhus | AI8: Studienævnet for Folkesundhedsvidenskab | AK8: 1 | AL8: Fri hjemmeopgave | AM8: Opgavebesvarelsen må have et omfang på maksimalt 25 normalsider, inkl. bilag og noter, men ekskl. indholdsfortegnelse, litteraturliste og engelsk resumé (max 1 normalside). Resuméet indgår i bedømmelsen.Desuden kan dokumentation for dataindsamling, databehandling og statistiske analyser vedlægges. Dokumentation for dataindsamling, databehandling og statistiske analyser indgår ikke i bacheloropgavens omfang. Det er muligt at aflevere bachelorprojektet på dansk eller engelsk. Ved aflevering på dansk skrives et resumé på engelsk og ved aflevering på engelsk skrives et resumé på dansk. | AO8: ekstern censur | AP8: 7-trinsskala | AQ8: 1 | AR8: Fri hjemmeopgave | AS8: Hjemmeopgave (Assign) | AV8: Alle | AX8: https://kursuskatalog-admin.au.dk/da/course/137613/
A9: 140952 | B9: 345201U017 | C9: 345201E009 | D9: Arbejds- og træningsfysiologi | E9: 10 | F9: 10 ECTS | G9: Institut for Folkesundhed | H9: Health.studadm@au.dk | I9: Bacheloruddannelsen i idrætsvidenskab | J9: Health | K9: Bachelor | L9: Forelæsning, Holdundervisning, Praktisk | M9: Efterårssemester | N9: 2026 | O9: Efterår | P9: Formål Formålet med kurset er at bibringe de studerende teoretisk kendskab til menneskets fysiologiske reaktioner under idræt, arbejde og træning. Herunder at forstå akut fysiologisk regulation til muskelaktivitet og kroniske tilpasninger til længerevarende træning. Læringsmål Ved bedømmelse af den studerendes præstation lægges vægt på, i hvor høj grad den studerende kan: Demonstrere forståelse for akut humanfysiologisk regulation under arbejde/idræt under forskellige forudsætninger og omstændigheder.Demonstrere kendskab til kroniske humanfysiologisk tilpasninger til længerevarende træning.Omsætte fysiologisk viden til en praktisk kontekst.Indsamle og fortolke fysiologiske datasæt.Redegøre for humanfysiologisk regulation og respons til arbejde/idræt.Analysere og fortolke data fra fysiologiske laboratorieøvelser.Rådgive givne målgrupper om effekt og praktisering af fysisk aktivitet under givne ydre omstændigheder. | Q9: Ordinær, Udveksling | R9: Dansk | T9: Kristian Kjær Vissing | U9: 150782 | V9: vissing@ph.au.dk | X9: Følgende emner omfattes af undervisningen: Energistofskiftet og aerobt/anaerobt arbejde, neuromuskulær fysiologi,- kredsløbs- og respirationsfysiologi, endokrinologi samt berører indflydelse af ernæring, ergogene stoffer, temperatur, alder og køn. | Y9: Kristian Vissing | AC9: Kurset bygger videre på teoretisk viden opnået i kurset Menneskets fysiologi | AE9: 1 x 2 lektioners forelæsninger, 1 x 2 lektioners selvstudier og 1 x 2 lektioners holdtimer. Hertil kommer 2 laboratorieøvelser af 2-4 timers varighed. Til 1 x 2 lektioners selvstudier løses opgaver i grupper eller individuelt som forberedelse til holdtimerne. Der er ikke en underviser til stede. | AF9: Aarhus | AI9: Studienævnet for Idræt | AJ9: Kandidattilvalget i idrætsvidenskab, Bacheloruddannelsen i idrætsvidenskab | AK9: 1 | AL9: Skriftlig tilsynseksamen m. PC | AM9: Eksamen er en individuel fire-timers skriftlig tilsynseksamen. Anviste hjælpemidler: Papir og pen. Lommeregner og PC med officepakken; kun til løsning af opgave. Derfor er internet, værktøjer baseret på Generativ Artificial Intelligence (GAI), andre funktioner, programmer eller noter på PC´ en ikke tilladt. Prøveform ved reeksamen Prøveformen ved reeksamen svarer til kursets ordinære prøveform. | AO9: ekstern censur | AP9: 7-trinsskala | AQ9: 1 | AR9: Skriftlig tilsynseksamen m. PC | AS9: Skriftlig Tilsynsprøve(Assign) | AU9: 4 time(r) | AV9: Anviste | AX9: https://kursuskatalog-admin.au.dk/da/course/140952/
A10: 137584 | B10: 321202U027 | C10: 321202E016 | D10: Arktisk medicin | E10: 5 | F10: 5 ECTS | G10: Institut for Folkesundhed | H10: Health.studadm@au.dk | I10: Kandidatuddannelsen i medicin | J10: Health | K10: Kandidat | L10: Forelæsning, Holdundervisning, Selvstudium | M10: Forårssemester | N10: 2026 | O10: Forår | P10: Kurset er beregnet til medicinstuderende på kandidatuddannelsen. Kurset giver en introduktion til menneskers sundhed i det arktiske med fokus på folkesygdomme og forebyggelse inkluderende risikofaktorer ved miljøeksponeringer og livsstil samt betydning af eventuelle klimaforandringer. Endvidere er kurset en introduktion til lægegerning (KBU, klinikophold) i Grønland. Kurset lægger op til individuelt forløb og evt. speciale på Grønland eller Grønlandske / arktiske sundhedsemner. Når kurset er gennemført forventer vi, at den studerende med hensyn til Arktisk Medicin skal kunne: Beskrive mønstre for sygdomme i arktiske befolkninger både overførbare og ikke-overførbareBeskrive påvirkninger og betydningen sundhedsdeterminanter som livsstilfaktorer og miljøeksponeringer samt evt. betydningen af klimaforandringerne.Beskrive sundhedssystemer og udfordringer til levering af sundhedspleje i arktiske regionerBeskrive leve- og sociale forhold blandt cirkumpolare populationerBeskriv forskelle i sundhedsvæsenet mellem f.eks. Skandinaviske lande og arktiske områder fra et praktisk synspunktBeskrive og sammenligne sygdomsfrekvens forskelle i Skandinaviske lande og arktiske områder. Redegøre for almindelige sygdomme og sundhedsmæssige forhold over tid i arktiske populationer og forskelle fra helbredsforhold i vestlige landeForklare hovedrisikofaktorer og determinanter for helbred og sygdom i arktiske populationerAnalysere etablerede sundhedssystemer og deres udfordringer til levering af sundhedsydelser i arktiske regionerDiskutere betydningen af praktiske spørgsmål relateret til arbejde i sundhedssystemer i arktiske områder | Q10: Ordinær, Udveksling | R10: Dansk | T10: Maria Wielsøe | U10: 255532 | V10: mwielsoe@ph.au.dk | X10: Kurset beskæftiger sig med menneskers sundhed i det arktiske. Der vil være en bred vifte af emner som medicinsk antropologi, sundhedssystemets opbygning og udfordringer med fokus på Grønland og folkesundhed i det arktiske. Der vil introduceres til cancer i det arktiske vs vestlige lande samt livsstilssygdomme som diabetes, hjertekar-og endokrine sygdomme, reproduktion og mor-barn sundhed, infektions sygdomme og genetisk diversitet. Inkluderet er også diæt og miljø-eksponeringseffekter på sundhed i det arktiske. Der er en række sygdomsmønstre i de arktiske populationer. Høj forekomst af smitsomme (infektiøse) sygdomme og lav forekomst af ikke-overførbare (kroniske) sygdomme som f.eks. koronar hjertesygdom og diabetes. Dette sundhedsmønster har ændret sig i arktiske befolkninger bl.a. grundet ændret livsstil og diæt. De arktiske samfund har gennem en årrække ændret sig fra et jagtsamfund til en mere vestlig livsstil inklusive skift fra traditionel primært marin kost til vestlige fødevarer. Dette har medført betydelige kulturelle og sociale problemstillinger, som har påvirket arktiske samfund i de seneste årtier. Endvidere er der set en tydelig stigning i visse type af kræft og fx diabetes. Desuden påvirker klimaændringer de arktiske populationer i større udstrækning end mange andre befolkninger. De cirkumpolare populationer er kendetegnet ved høje niveauer af svært nedbrydelige, sundhedsskadelige gifte i miljø og deres marine kost. En række miljøgifte er blevet reguleret – men nye er kommet til og udgør derfor stadig en sundhedsrisiko. Kurset vedrører således de sundhedsmønstre i arktiske befolkninger, som tydeligt har ændret sig over tid. Samlet behandler kurset levevilkår og statistikker for arktiske befolkninger; determinanter og risikofaktorer for sundhed, herunder genetisk modtagelighed, miljø, sociale faktorer, diæt og ernæring, rygning, alkohol og stofbrug; og konsekvenser med hensyn til de særlige mønstre af sygdomme, der er observeret i disse populationer, herunder genetiske, infektions- og hjerte-kar-sygdomme, kræft, diabetes, fedme, skader og vold, mental sundhed og selvmord og mødres og børns sundhed. Der vil blive lagt særlig vægt på nye forskningsresultater. Kurset giver en indsigt i praktisk arbejde i sundhedsvæsenets systemer i arktiske områder med særlig fokus på Grønland og kan derfor også fungere som et forberedende kursus for arbejde i sådanne områder. | Y10: Eva Cecilie Bonefeld-Jørgensen | AA10: Litteratur i relation til forelæsninger og individuelle opgaver indgår i pensum. | AB10: 30 | AC10: Bestået bacheloruddannelse i medicin | AD10: Forelæsninger / Holdundervisning med gruppearbejde med efterfølgende præsentation i plenum samt opponering af andre gruppers arbejde/præsentation. Undervisningen er typisk opbygget ved 1-2 times forelæsning fulgt af en time med gruppearbejde præsentation og diskussion i plenum af udleveret relateret litteratur. Generelt er der afsat 1 time til gruppearbejde pr undervisningsdag til forberedelse af gruppens kommende præsentation, diskussion og opponering. Ved kursusstart vil der blive etableret hold af ca. 4 studerende. I tilknytning til hver forelæsning lægges der på Brightspace (BS), senest 8-10 dage før undervisningsdagen, relateret litteratur (artikel(er)) med spørgsmål fra forelæser, som de studerende i de valgte hold skal besvare og præsentere på klassen som oplæg (PowerPoint (PP)) til efterfølgende diskussion i plenum med underviser, opponenter og de øvrige studerende. Der vælges blandt medkursisterne faste opponenter til hvert emne. De studerendes gruppearbejde som PP skal lægges på BS og fremsendes til forelæser i emnet senest 2 dage før projektpræsentationerne så opponenterne kan forberede spørgsmål. | AE10: 150 timer, heraf 32 konfrontationstimer, 70 timers forberedelse til/opfølgning på konfrontationstimer, 48 timers udarbejdelse af skriftlig afsluttende opgave. | AF10: Aarhus | AI10: Studienævnet for Medicin | AK10: 1 | AL10: Undervisningsdeltagelse | AM10: For at få godkendt aktiv undervisningsdeltagelse og dermed kurset, skal studerende have godkendt følgende: Gruppeoplæg med efterfølgende diskussion i plenum i forbindelse med forelæsning. Deltagelse som opponent ved en andens gruppes oplæg i forbindelse med forelæsning Skriftlig projektopgave i grupper over et emne der udleveres ved kursusstart (BS). Inspiration til emnet vil være på BS under ”forelæsninger” ved kursus start. Opgaven er en hjemmeopgave som udføres i løbet at kurset. Den skriftlige opgave må max være 5 sider (á 2400 tegn inkl. blanktegn), inkl. noter, men ekskl. abstrakt, indholdsfortegnelse, litteraturliste, bilag og tabeller/figurer. Den enkelte studerende skal i rapporten angive hvad de har skrevet og været ansvarlig for. Opgaven afleveres på BS i uge 6 på kurset. Opgaven vil blive skriftligt kommenteret af underviser med ekspertise i emnet. Alle i gruppen står til regnskab for hele opgaven. På baggrund af aktiviteterne foretages en individuel helhedsvurdering af den studerendes præstation med henblik på at bedømme om undervisningsdeltagelsen er godkendt B-prøveBestår den studerende ikke 1. prøveforsøg, tilmeldes den studerende B-prøven som sit 2. prøveforsøg. B-prøven er en stillet 48 timers skriftlig hjemmeopgave på maks. 5 sider (á 2400 tegn inkl. blanktegn), inkl. noter, men ekskl. indholdsfortegnelse, litteraturliste, abstrakt, bilag og tabeller/figurer. Herudover 30 min. mundtlig eksamination (fremlæggelse af opgaven samt indgående spørgsmål til pensum). | AO10: ingen censur | AP10: bestået/ikke bestået | AQ10: 1 | AR10: Undervisningsdeltagelse | AS10: Undervisningsdeltagelse | AX10: https://kursuskatalog-admin.au.dk/da/course/137584/
A11: 137565 | B11: 345201U021 | C11: 345201E021 | D11: Atletik og bevægelsesoptimering | E11: 5 | F11: 5 ECTS | G11: Institut for Folkesundhed | H11: Health.studadm@au.dk | I11: Bacheloruddannelsen i idrætsvidenskab | J11: Health | K11: Bachelor | L11: Forelæsning, Holdundervisning, Praktisk | M11: Forårssemester | N11: 2026 | O11: Forår | P11: Formål Formålet med kurset er, at de studerende udvikler alsidige praktiske kompetencer samt biomekanisk indsigt i og forståelse for atletikkens discipliner inden for løb, spring og kast. De studerende skal ydermere ud fra tillæring af en praktisk-teoretisk forståelsesramme af kendte bevægelser fra atletik, kunne anvende denne viden til at optimere på bevægelser, der ligger uden for atletikkens discipliner (ex: retningsskifte, spark og slag). Læringsmål Ved bedømmelse af den studerendes præstation lægges vægt på, i hvor høj grad den studerende kan: Redegøre og forklare for relevante biomekaniske formler og modeller inden for optimering af løb, spring og kastPerspektivere sin teoretisk-biomekaniske og praktiske viden fra atletikkens discipliner til optimering af bevægelser i andre sportsgreneUdføre praktiske basisfærdigheder inden udvalgte atletikdiscipliner samt indsamle og analysere kinematiske data fra egne/andres bevægelser.Anvende sine biomekaniske analyser i en praksis-kontekst til bevægelsesoptimering herunder at, dels) udpege tekniske forbedringspunkter og, dels) opstille konkrete træningsøvelser.Selvstændigt tilrettelægge og opstille forsøg for dataindsamling (ex. position, højde, vinkel) af bevægelser i atletik.Identificere egne læringsbehov og udpege relevante øvelser for teknisk-biomekanisk optimering af egne bevægelser. | Q11: Ordinær, Udveksling | R11: Dansk | T11: Simon Lønbro | U11: 146588 | V11: loenbro@ph.au.dk | X11: De studerende introduceres til udvalgte atletikdiscipliner inden for hovedgrupperne: løb, spring og kast. De studerende vil på kurset blive indført i hvilke biomekaniske betragtninger der ligger til grund for den tekniske udførelse af den enkelte disciplin, ligesom de studerende skal afprøve og erfare disciplinerne på egen krop gennem praktisk undervisning. Der vil være et teoretisk pensum med teknisk og biomekanisk forklaring af de atletikdiscipliner som der arbejdes med i den praktiske undervisning, ligesom der afholdes en forelæsning pr. disciplin. De studerende vil undervejs på kurset arbejde med at indsamle og regne på kinematisk data ved hjælp af on-field redskaber (videooptagelser, fotoceller ol.) og computerprogrammer (tracker, excel ol.) med henblik på teknisk optimering af egne og andres bevægelser. De studerende vil på kurset arbejde med at perspektivere deres praktiske og teoretiske viden fra atletik til at optimere på bevægelser der ligger uden for atletikkens egenart, eksempelvis slag, spark og retningsskifte. I den perspektiverende del kan de studerende finde inspiration til andre sportsgrene i et kursorisk materiale, men pointen med perspektiveringen er at de biomekaniske forklaringsmodeller i atletik også er gældende i andre sportsgrene. | Y11: Andreas K. Christensen, Thomas Cortebeeck | AB11: 20 | AC11: Det forudsættes at den studerende har bestået kurset Anatomi og biomekanik, da den anvendte biomekanik i Atletik og bevægelsesoptimering tager afsæt i dette kursus. | AD11: Kurset afholdes på Ceres Park, i Marselisborghallen og på Sektion for Idræt | AE11: Kurset er en kombination af praktisk og teoretisk undervisning. Kurset består af 54 lektioner fordelt på 14 uger med 1-2 x 3 praktiske/teoretiske lektioner pr. uge. | AF11: Aarhus | AI11: Studienævnet for Idræt | AJ11: Kandidattilvalget i idrætsvidenskab, Bacheloruddannelsen i idrætsvidenskab | AK11: 1 | AL11: Praktisk + Bunden hjemmeopgave | AM11: Kombineret praktisk og skrifltig prøve: Praktisk prøve: De studerende går enkeltvis op til prøven, men den afholdes samtidig med prøven for resten af holdet, da den praktiske prøve består af flere discipliner. Studerende A vurderes på sin 100 m, derefter studerende B og så fremdeles. Herefter fortsætter de studerende til en ny disciplin for studerende A starter, efterfulgt af studerende B. Den samlede varighed for et hold af 25-30 studerende er ca. 4 timer. Skriftlig prøve: Individuel bunden hjemmeopgave. Bedømmelsesgrundlag: Den studerende vurderes både praktisk og skriftligt. Den studerende skal bestå begge prøver hver for sig. Der gives karakter på baggrund af en samlet vurdering Reeksamen er samme som ordinær | AO11: intern censur | AP11: 7-trinsskala | AQ11: 2 | AR11: Praktisk(A),Bunden hjemmeopgave(B) | AS11: Praktisk(A),Hjemmeopgave (Assign)(B) | AT11: (A),(B) | AU11: 4 time(r)(A),48 time(r)(B) | AV11: (A),(B) | AX11: https://kursuskatalog-admin.au.dk/da/course/137565/
A12: 137622 | B12: 341181U019 | C12: 341181E017 | D12: Bacheloropgave | E12: 20 | F12: 20 ECTS | G12: Institut for Folkesundhed | H12: Health.studadm@au.dk | I12: Bacheloruddannelsen i folkesundhedsvidenskab | J12: Health | K12: Bachelor | L12: Selvstudium, Vejledning | M12: Forårssemester | N12: 2026 | O12: Forår | P12: Formålet er, at den studerende selvstændigt kan behandle, analysere og diskutere en folkesundhedsvidenskabelig problemstilling. Den studerende skal med udgangspunkt i bacheloruddannelsens fagelementer kunne: behandle en afgrænset og klar folkesundhedsvidenskabelig problemstillingdokumentere en struktureret og fokuseret litteratursøgning med fremdragelse af relevant litteraturargumentere for valg af metode i relation til den valgte problemstillingdiskutere relevant teori og viden om det valgte genstandsområdeanalysere og fortolke empirisk datamaterialekritisk diskutere teori og materialekonkludere og perspektivere; gennemføre en logisk sammenhængende og velunderbygget argumentation fra problemformulering over analyse til konklusiondokumentere evnen til skriftlig akademisk fremstilling | Q12: Ordinær | R12: Dansk | AD12: Den studerende skal individuelt udarbejde en opgave, hvor den studerende selvstændigt finder emnefelt og vejleder. Vejleder skal godkendes af Studieleder. | AF12: Aarhus | AI12: Studienævnet for Folkesundhedsvidenskab | AK12: 1 | AL12: Hjemmeopgave (Assign) | AM12: Fri skriftlig hjemmeopgave, dog inden for emnefeltet af det udbudte seminar såfremt den studerende har valgt at følge et sådant. Det skriftlige produkt må have et omfang på max 25 normalsider, inkl. bilag og noter, men ekskl. indholdsfortegnelse, litteraturliste og engelsk resumé (max 1 normalside). Resuméet indgår i bedømmelsen. Desuden kan dokumentation for dataindsamling, databehandling og statistiske analyser vedlægges. Dokumentation for dataindsamling, databehandling og statistiske analyser indgår ikke i bacheloropgavens omfang. Det er muligt at aflevere bachelorprojektet på dansk eller engelsk. Ved aflevering på dansk skrives et resumé på engelsk og ved aflevering på engelsk skrives et resumé på dansk. | AO12: ekstern censur | AP12: 7-trinsskala | AQ12: 1 | AS12: Hjemmeopgave (Assign) | AX12: https://kursuskatalog-admin.au.dk/da/course/137622/
A13: 137606 | B13: 345201U012 | C13: 345201E015 | D13: Bachelorprojekt | E13: 15 | F13: 15 ECTS | G13: Institut for Folkesundhed | H13: Health.studadm@au.dk | I13: Bacheloruddannelsen i idrætsvidenskab | J13: Health | K13: Bachelor | L13: Selvstudium | M13: Forårssemester | N13: 2026 | O13: Forår | P13: Formål Formålet med bachelorprojektet er, at den studerende fordyber sig i et forhåndsgodkendt emne inden for et idrætsligt fagområde. Det valgte emne kan belyses inden for et eller flere af idrætsstudiets tre hovedområder: humanfysiologisk idrætsteori, humanistisk-samfundsvidenskabelig idrætsteori og det praktisk-teoretiske område. Læringsmål Ved bedømmelse af den studerendes præstation lægges vægt på, i hvor høj grad den studerende kan: Demonstrere grundlæggende viden om forskningsbaserede metoder, relevante digitale teknologier samt teorier knyttet til en konkret idrætsfaglig problemstilling.Demonstrere indsigt i det valgte faglige emne på grundlag af den viden, der er opnået inden for et eller flere af uddannelsens fagområder.Formulere og afgrænse en konkret idrætsfaglig problemstillingUdvælge og afgrænse inddraget metode og teori på systematisk vis i relation til den idrætsfaglige problemstilling.Skriftligt og mundtligt formidle det valgte emne ved hjælp af relevant litteratur, digitale teknologier og metoder.Samle resultaterne i en klar, struktureret og sproglig korrekt fremstilling.I resuméform redegøre for arbejdets rationale, problemstilling, teoretiske grundlag, metoder og resultater.Tilegne og kritisk fortolke til eksisterende og ny viden.Argumentere for og kritisk diskutere teorivalg, metodiske tilgange og datahåndtering hvis relevant.Selvstændigt indsamle og kritisk vurdere faglig litteratur og andet materiale.Selvstændigt analysere og diskutere emnet på baggrund af beskrevne intentioner og ved hjælp af faglige metoder og teorier. | Q13: Ordinær, Udveksling | R13: Dansk, Engelsk | T13: Kristian Raun Thomsen | U13: 275643 | V13: thomsen@ph.au.dk | X13: Bachelorprojektet er et afsluttende selvstændigt videnskabeligt arbejde, der trækker på uddannelsens kernefaglige elementer. Den studerende vælger en problemstilling inden for et idrætsfagligt emne, der afspejler bacheloruddannelsens kompetenceprofil, og som kan godkendes af en vejleder. Bachelorprojektet udgør et selvstændigt teoretisk og/eller eksperimentelt/empirisk baseret arbejde ved hjælp af forskningsmetoder, som anvendes inden for minimum et af de tre hovedområder: (1) Humanfysiologisk idrætsteori, (2) humanistisk-samfundsvidenskabelig idrætsteori og (3) praktisk-teoretisk idræt. | Y13: Akademisk ansatte på Insitut for Folkesundhed | Z13: 6. semester (1-faglig) 5. semester (2-faglig) | AD13: Vejledningsomfang og indhold aftales i dialog med vejleder. | AE13: Bachelorprojektet strækker sig over et semester. | AF13: Aarhus | AI13: Studienævnet for Idræt | AJ13: Bacheloruddannelsen i idrætsvidenskab | AK13: 1 | AL13: Fri hjemmeopgave + Bunden mundtlig prøve | AM13: Bachelorprojektet er en fri skriftlig hjemmeopgave efterfulgt af en mundtlig eksamen. Fri hjemmeopgave: Bachelorprojektet skal have et omfang på maksimalt 25 normalsider. Derudover skal bachelorprojektet indeholde et resumé på maksimalt 1 normalside. Bachelorprojektet kan udarbejdes af op til tre studerende. Ved flere studerende tillægges maksimalt 15 sider pr. studerende ekstra i gruppen. Det er muligt at aflevere bachelorprojektet på dansk eller engelsk. Ved aflevering på dansk skrives et resumé på engelsk og ved aflevering på engelsk skrives et resumé på dansk. Mundtlig prøve: Den mundtlige eksamen er individuel og varer 30 minutter inkl. votering. Eksaminationen tager udgangspunkt i den skriftlige opgave. Den studerende har mulighed for at indlede den mundtlige eksamen med et oplæg maksimalt 8 minutter. Bedømmelsesgrundlag: Bedømmelsen sker på baggrund af en helhedsvurdering af den skriftlige opgave og den mundtlige eksamination | AO13: ekstern censur | AP13: 7-trinsskala | AQ13: 2 | AR13: Fri hjemmeopgave(A),Bunden mundtlig prøve(B) | AS13: Hjemmeopgave (Assign)(A),Mundtlig(B) | AT13: (A),(B) | AU13: (A),30 minutter(B) | AV13: Alle(A),Alle(B) | AX13: https://kursuskatalog-admin.au.dk/da/course/137606/
A14: 140953 | B14: 345201U012 | C14: 345201E015 | D14: Bachelorprojekt | E14: 15 | F14: 15 ECTS | G14: Institut for Folkesundhed | H14: Health.studadm@au.dk | I14: Bacheloruddannelsen i idrætsvidenskab | J14: Health | K14: Bachelor | L14: Selvstudium | M14: Efterårssemester | N14: 2026 | O14: Efterår | P14: Formål Formålet med bachelorprojektet er, at den studerende fordyber sig i et forhåndsgodkendt emne inden for et idrætsligt fagområde. Det valgte emne kan belyses inden for et eller flere af idrætsstudiets tre hovedområder: humanfysiologisk idrætsteori, humanistisk-samfundsvidenskabelig idrætsteori og det praktisk-teoretiske område. Læringsmål Ved bedømmelse af den studerendes præstation lægges vægt på, i hvor høj grad den studerende kan: Demonstrere grundlæggende viden om forskningsbaserede metoder, relevante digitale teknologier samt teorier knyttet til en konkret idrætsfaglig problemstilling.Demonstrere indsigt i det valgte faglige emne på grundlag af den viden, der er opnået inden for et eller flere af uddannelsens fagområder.Formulere og afgrænse en konkret idrætsfaglig problemstillingUdvælge og afgrænse inddraget metode og teori på systematisk vis i relation til den idrætsfaglige problemstilling.Skriftligt og mundtligt formidle det valgte emne ved hjælp af relevant litteratur, digitale teknologier og metoder.Samle resultaterne i en klar, struktureret og sproglig korrekt fremstilling.I resuméform redegøre for arbejdets rationale, problemstilling, teoretiske grundlag, metoder og resultater.Tilegne og kritisk fortolke til eksisterende og ny viden.Argumentere for og kritisk diskutere teorivalg, metodiske tilgange og datahåndtering hvis relevant.Selvstændigt indsamle og kritisk vurdere faglig litteratur og andet materiale.Selvstændigt analysere og diskutere emnet på baggrund af beskrevne intentioner og ved hjælp af faglige metoder og teorier. | Q14: Ordinær, Udveksling | R14: Dansk, Engelsk | T14: Kristian Raun Thomsen | U14: 275643 | V14: thomsen@ph.au.dk | X14: Bachelorprojektet er et afsluttende selvstændigt videnskabeligt arbejde, der trækker på uddannelsens kernefaglige elementer. Den studerende vælger en problemstilling inden for et idrætsfagligt emne, der afspejler bacheloruddannelsens kompetenceprofil, og som kan godkendes af en vejleder. Bachelorprojektet udgør et selvstændigt teoretisk og/eller eksperimentelt/empirisk baseret arbejde ved hjælp af forskningsmetoder, som anvendes inden for minimum et af de tre hovedområder: (1) Humanfysiologisk idrætsteori, (2) humanistisk-samfundsvidenskabelig idrætsteori og (3) praktisk-teoretisk idræt. | Y14: Akademisk ansatte på Insitut for Folkesundhed | Z14: 6. semester (1-faglig) 5. semester (2-faglig) | AD14: Vejledningsomfang og indhold aftales i dialog med vejleder. | AE14: Bachelorprojektet strækker sig over et semester. | AF14: Aarhus | AI14: Studienævnet for Idræt | AJ14: Bacheloruddannelsen i idrætsvidenskab | AK14: 1 | AL14: Fri hjemmeopgave + Bunden mundtlig prøve | AM14: Bachelorprojektet er en fri skriftlig hjemmeopgave efterfulgt af en mundtlig eksamen. Fri hjemmeopgave: Bachelorprojektet skal have et omfang på maksimalt 25 normalsider. Derudover skal bachelorprojektet indeholde et resumé på maksimalt 1 normalside. Bachelorprojektet kan udarbejdes af op til tre studerende. Ved flere studerende tillægges maksimalt 15 sider pr. studerende ekstra i gruppen. Det er muligt at aflevere bachelorprojektet på dansk eller engelsk. Ved aflevering på dansk skrives et resumé på engelsk og ved aflevering på engelsk skrives et resumé på dansk. Mundtlig prøve: Den mundtlige eksamen er individuel og varer 30 minutter inkl. votering. Eksaminationen tager udgangspunkt i den skriftlige opgave. Den studerende har mulighed for at indlede den mundtlige eksamen med et oplæg maksimalt 8 minutter. Bedømmelsesgrundlag: Bedømmelsen sker på baggrund af en helhedsvurdering af den skriftlige opgave og den mundtlige eksamination | AO14: ekstern censur | AP14: 7-trinsskala | AQ14: 2 | AR14: Fri hjemmeopgave(A),Bunden mundtlig prøve(B) | AS14: Hjemmeopgave (Assign)(A),Mundtlig(B) | AT14: (A),(B) | AU14: (A),30 minutter(B) | AV14: Alle(A),Alle(B) | AX14: https://kursuskatalog-admin.au.dk/da/course/140953/
A15: 137516 | B15: 311201U023 | C15: 311201E030 | D15: Bachelorprojekt: Folkesundhed | E15: 10 | F15: 10 ECTS | G15: Institut for Folkesundhed | H15: Health.studadm@au.dk | I15: Bacheloruddannelsen i medicin | J15: Health | K15: Bachelor | L15: Forelæsning, Holdundervisning, Selvstudium, Vejledning | M15: Forårssemester | N15: 2026 | O15: Forår | P15: Formålet med bachelorprojektet er, at den studerende selvstændigt skal behandle, analysere og diskutere en medicinsk problemstilling med udgangspunkt i enten videnskabelig litteratur, egne data eller data stillet til rådighed af vejleder. Den studerende skal lære målrettet at skaffe sig ny information og vurdere dens kvalitet samt præsenteres for og forholde sig til videnskabsetiske og videnskabsteoretiske forhold. Endvidere trænes formidling af data, forskningsresultater og videnskabelig litteratur til forskellige målgrupper. Den studerende skal kunne: Analysere sundhedsvidenskabelige problemstillinger systematisk og kritisk på basis af generelle forhåndskundskaber og ny indsamlet litteratur.Afgrænse en problemformulering inden for det selvvalgte emne og argumentere for problemstillingens relevans.Kritisk anvende informationsteknologi til at søge viden.Diskutere og vurdere videnskabelige metoder og resultater.Diskutere og perspektivere en faglig problemstilling.Reflektere over videnskabsetiske og videnskabsteoretiske aspekter af relevans for besvarelse af den selvvalgte problemstilling.På skriftligt engelsk besvare den selvvalgte problemformulering i en bacheloropgave og i et dansk resumé formidle hovedpointerne til ikke-specialister. | Q15: Ordinær, Udveksling | T15: Bodil Hammer Bech | U15: 7816 | V15: bhb@ph.au.dk | X15: En bacheloropgave i folkesundhed, kan skrives indenfor følgende emner: Kvalitative, kulturanalytiske studier: Sundhedsbegreber, sundhedsopfattelser, idræt og samfundFødevarer og sundhedReproduktion og sundhedKost og sundhedFysisk aktivitetFødevarer og sundhedSygdomme, medicinering og muligheden for fysisk aktivitetFolkesundhed – problemstillinger og tilgange | Z15: 5. semester | AC15: Kurset tager udgangspunkt i de faglige kompetencer, den studerende har erhvervet i de foregående kurser på 1.-4. semester. | AD15: Forelæsninger: Der afholdes 1 blok med forelæsninger (3 timer), som omhandler forventninger (etik, arbejde med primærlitteratur, arbejdsindsats) og formelle krav til rapporten. Holdlektioner: Der udbydes workshops fra AU Library, som skal understøtte de studerende i at tilvejebringe den relevante primærlitteratur. Vejledning: Der tilbydes op til 4.5 timers vejledning for den studerende, herunder vejledning til disposition af rapport samt diskussion i relation til litteratur og emneområde. Individuel forberedelse: Valg af emneområde samt strukturering af rapport. Forberedelse til vejledninger. Udfærdigelse af selve rapporten på 10 normalsider. Underviser til stede og har planlægningsansvar: 3 timers introduktion, 4.5 times vejledning + evt. bibliotekets workshop. Underviser planlægningsansvar, ikke til stede: 0 Underviser tilstede, studerende har planlægningsansvar: 0 Studerende har planlægningsansvar, underviser ikke tilstede: 292.5 timer. | AE15: Ca. 3 timers introduktionsforelæsning og litteratursøgningskursus i starten af forløbet. Derefter individuelt arbejde med bachelorprojekt under vejledning. Bachelorforløbet starter 4 uger inde i 5. semester. | AF15: Aarhus | AI15: Studienævnet for Medicin | AK15: 1 | AL15: Fri hjemmeopgave | AM15: Opgaven udarbejdes på engelsk. Bacheloropgaven på 10 ECTS kan skrives individuelt eller i grupper af maks. 3 studerende. Skrives bacheloropgaven i grupper, skal den enkelte varetage et delområde. Afleveres en gruppeopgave, så skal problemformulering, indledning og konklusion laves i fællesskab, mens de øvrige afsnit markeres entydigt med initialer for den studerende, der har udarbejdet det pågældende afsnit; således at det sikres, at der kan foretages en individuel bedømmelse af hver enkelt studerende. Skrives opgaven individuelt må opgavens omfang være maks. 10 normalsider (á 2400 tegn inkl. blanktegn), inkl. bilag og noter, men ekskl. indholdsfortegnelse, evt. forkortelsesliste, litteraturliste, dansk resumé, engelsk abstract og tabeller/figurer - for sidstnævnte gælder også at tabel- og figurtekster heller ikke tælles med. Der må maksimalt være 10 tabeller/figurer og hver tabel/figur skal så vidt muligt holdes inden for 1 side, inklusive tabel/figurtekst. Såfremt en tabel/figur andrager mere end 1 side, reduceres det tilladte maksimale antal tabeller/figurer tilsvarende. Skrives opgaven i gruppe af 2 studerende: Maks. omfang 15 normalsider Skrives opgaven i gruppe af 3 studerende: Maks. omfang 20 normalsider ReeksamenOpgaveformuleringen ved hh. 2. og 3. prøveforsøg er den samme som ved 1. prøveforsøg. 2. og 3. prøveforsøg består af en kvalificering og forbedring af opgaven. | AO15: ekstern censur | AP15: 7-trinsskala | AQ15: 1 | AR15: Fri hjemmeopgave | AS15: Hjemmeopgave (Assign) | AV15: Alle | AX15: https://kursuskatalog-admin.au.dk/da/course/137516/
